BEGIN:VCALENDAR
VERSION:2.0
PRODID:SchoolNow
CALSCALE:GREGORIAN
BEGIN:VEVENT
UID:02caad8e-7dd7-11f0-8cc7-0a58a9feac02
DTSTAMP:20250820T150446Z
SUMMARY:School Pictures
URL;VALUE=URI:https://www.suradacademy.org/calendar/8524807/school-pictures
DTSTART;VALUE=DATE:20250922
DTEND;VALUE=DATE:20250923
END:VEVENT
END:VCALENDAR
