BEGIN:VCALENDAR
VERSION:2.0
PRODID:SchoolNow
CALSCALE:GREGORIAN
BEGIN:VEVENT
UID:d25dbe72-7dd4-11f0-a634-0affee066179
DTSTAMP:20250820T144906Z
SUMMARY:No School - Labor Day
URL;VALUE=URI:https://www.suradacademy.org/calendar/8524799/no-school-labor
 -day
DTSTART;VALUE=DATE:20250901
DTEND;VALUE=DATE:20250902
END:VEVENT
END:VCALENDAR
