BEGIN:VCALENDAR
VERSION:2.0
PRODID:SchoolNow
CALSCALE:GREGORIAN
BEGIN:VEVENT
UID:beb92b90-7dd4-11f0-96bb-0a58a9feac02
DTSTAMP:20250820T144833Z
SUMMARY:First Day of School
URL;VALUE=URI:https://www.suradacademy.org/calendar/8524798/first-day-of-sc
 hool
DTSTART;VALUE=DATE:20250827
DTEND;VALUE=DATE:20250828
END:VEVENT
END:VCALENDAR
