BEGIN:VCALENDAR
VERSION:2.0
PRODID:SchoolNow
CALSCALE:GREGORIAN
BEGIN:VEVENT
UID:8859f7b4-7dd4-11f0-a4fa-029f65b6582b
DTSTAMP:20250820T144702Z
SUMMARY:Open House
URL;VALUE=URI:https://www.suradacademy.org/calendar/8524796/open-house
DTSTART:20250822T200000Z
DTEND:20250822T220000Z
END:VEVENT
END:VCALENDAR
